Package: npGSEA Version: 1.40.0 Command: /home/biocbuild/R/R-beta-2024-04-15_r86425/bin/R CMD build --keep-empty-dirs --no-resave-data npGSEA StartedAt: 2024-05-09 02:10:18 -0000 (Thu, 09 May 2024) EndedAt: 2024-05-09 02:11:00 -0000 (Thu, 09 May 2024) EllapsedTime: 42.1 seconds RetCode: 0 Status: OK PackageFile: npGSEA_1.40.0.tar.gz PackageFileSize: 352 KiB