Package: nuCpos Version: 1.22.0 Command: /Library/Frameworks/R.framework/Resources/bin/R CMD check --install=check:nuCpos.install-out.txt --library=/Library/Frameworks/R.framework/Resources/library --no-vignettes --timings nuCpos_1.22.0.tar.gz StartedAt: 2024-06-11 00:04:08 -0400 (Tue, 11 Jun 2024) EndedAt: 2024-06-11 00:05:15 -0400 (Tue, 11 Jun 2024) EllapsedTime: 66.6 seconds RetCode: 0 Status: OK CheckDir: nuCpos.Rcheck Warnings: 0