Package: nuCpos Version: 1.22.0 Command: rm -rf nuCpos.buildbin-libdir && mkdir nuCpos.buildbin-libdir && /Users/biocbuild/BBS/utils/build-universal.sh nuCpos_1.22.0.tar.gz /Library/Frameworks/R.framework/Resources/bin/R nuCpos.buildbin-libdir StartedAt: 2024-10-17 16:45:09 -0400 (Thu, 17 Oct 2024) EndedAt: 2024-10-17 16:45:25 -0400 (Thu, 17 Oct 2024) EllapsedTime: 16.1 seconds RetCode: 0 Status: OK PackageFile: nuCpos_1.22.0.tgz PackageFileSize: 1.712 MiB