Package: nuCpos Version: 1.22.0 Command: /Library/Frameworks/R.framework/Resources/bin/R CMD build --keep-empty-dirs --no-resave-data nuCpos StartedAt: 2024-10-16 21:40:18 -0400 (Wed, 16 Oct 2024) EndedAt: 2024-10-16 21:41:10 -0400 (Wed, 16 Oct 2024) EllapsedTime: 52.5 seconds RetCode: 0 Status: OK PackageFile: nuCpos_1.22.0.tar.gz PackageFileSize: 2.392 MiB