Package: nuCpos Version: 1.22.0 Command: chmod a+r nuCpos -R && F:\biocbuild\bbs-3.19-bioc\R\bin\R.exe CMD build --keep-empty-dirs --no-resave-data nuCpos StartedAt: 2024-06-26 20:33:20 -0400 (Wed, 26 Jun 2024) EndedAt: 2024-06-26 20:33:36 -0400 (Wed, 26 Jun 2024) EllapsedTime: 16.0 seconds RetCode: 0 Status: OK PackageFile: nuCpos_1.22.0.tar.gz PackageFileSize: 2.269 MiB