Package: nucleoSim Version: 1.32.0 Command: /Library/Frameworks/R.framework/Resources/bin/R CMD build --keep-empty-dirs --no-resave-data nucleoSim StartedAt: 2024-10-17 05:44:19 -0400 (Thu, 17 Oct 2024) EndedAt: 2024-10-17 05:44:35 -0400 (Thu, 17 Oct 2024) EllapsedTime: 16.8 seconds RetCode: 0 Status: OK PackageFile: nucleoSim_1.32.0.tar.gz PackageFileSize: 463.6 KiB