Package: nucleoSim Version: 1.32.0 Command: rm -rf nucleoSim.buildbin-libdir && mkdir nucleoSim.buildbin-libdir && /Users/biocbuild/BBS/utils/build-universal.sh nucleoSim_1.32.0.tar.gz /Library/Frameworks/R.framework/Resources/bin/R nucleoSim.buildbin-libdir StartedAt: 2024-10-17 16:45:08 -0400 (Thu, 17 Oct 2024) EndedAt: 2024-10-17 16:45:26 -0400 (Thu, 17 Oct 2024) EllapsedTime: 18.3 seconds RetCode: 0 Status: OK PackageFile: nucleoSim_1.32.0.tgz PackageFileSize: 494.2 KiB