Package: nucleoSim Version: 1.32.0 Command: chmod a+r nucleoSim -R && E:\biocbuild\bbs-3.19-bioc\R\bin\R.exe CMD build --keep-empty-dirs --no-resave-data nucleoSim StartedAt: 2024-10-16 20:45:06 -0400 (Wed, 16 Oct 2024) EndedAt: 2024-10-16 20:45:25 -0400 (Wed, 16 Oct 2024) EllapsedTime: 18.7 seconds RetCode: 0 Status: OK PackageFile: nucleoSim_1.32.0.tar.gz PackageFileSize: 302.6 KiB