Package: oligo Version: 1.68.2 Command: /Library/Frameworks/R.framework/Resources/bin/R CMD build --keep-empty-dirs --no-resave-data oligo StartedAt: 2024-10-17 05:47:53 -0400 (Thu, 17 Oct 2024) EndedAt: 2024-10-17 05:48:41 -0400 (Thu, 17 Oct 2024) EllapsedTime: 48.4 seconds RetCode: 0 Status: OK PackageFile: oligo_1.68.2.tar.gz PackageFileSize: 27.1 MiB