Package: oligo Version: 1.68.2 Command: /Library/Frameworks/R.framework/Resources/bin/R CMD INSTALL oligo StartedAt: 2024-10-16 16:12:53 -0400 (Wed, 16 Oct 2024) EndedAt: 2024-10-16 16:13:32 -0400 (Wed, 16 Oct 2024) EllapsedTime: 39.0 seconds RetCode: 0 Status: OK