Package: oligo Version: 1.68.2 Command: rm -rf oligo.buildbin-libdir && mkdir oligo.buildbin-libdir && /Users/biocbuild/BBS/utils/build-universal.sh oligo_1.68.2.tar.gz /Library/Frameworks/R.framework/Resources/bin/R oligo.buildbin-libdir StartedAt: 2024-06-11 12:22:29 -0400 (Tue, 11 Jun 2024) EndedAt: 2024-06-11 12:23:41 -0400 (Tue, 11 Jun 2024) EllapsedTime: 72.0 seconds RetCode: 0 Status: OK PackageFile: oligo_1.68.2.tgz PackageFileSize: 27.85 MiB