Package: oligo Version: 1.68.0 Command: /home/biocbuild/R/R-beta-2024-04-15_r86425/bin/R CMD build --keep-empty-dirs --no-resave-data oligo StartedAt: 2024-05-09 02:11:39 -0000 (Thu, 09 May 2024) EndedAt: 2024-05-09 02:12:35 -0000 (Thu, 09 May 2024) EllapsedTime: 56.1 seconds RetCode: 0 Status: OK PackageFile: oligo_1.68.0.tar.gz PackageFileSize: 27.1 MiB