Package: oligo Version: 1.68.2 Command: /Library/Frameworks/R.framework/Resources/bin/R CMD build --keep-empty-dirs --no-resave-data oligo StartedAt: 2024-06-09 17:34:01 -0400 (Sun, 09 Jun 2024) EndedAt: 2024-06-09 17:34:52 -0400 (Sun, 09 Jun 2024) EllapsedTime: 51.2 seconds RetCode: 0 Status: OK PackageFile: oligo_1.68.2.tar.gz PackageFileSize: 27.1 MiB