Package: oligo Version: 1.68.2 Command: rm -rf oligo.buildbin-libdir && mkdir oligo.buildbin-libdir && /Users/biocbuild/BBS/utils/build-universal.sh oligo_1.68.2.tar.gz /Library/Frameworks/R.framework/Resources/bin/R oligo.buildbin-libdir StartedAt: 2024-10-17 16:45:26 -0400 (Thu, 17 Oct 2024) EndedAt: 2024-10-17 16:47:09 -0400 (Thu, 17 Oct 2024) EllapsedTime: 103.5 seconds RetCode: 0 Status: OK PackageFile: oligo_1.68.2.tgz PackageFileSize: 27.85 MiB