Package: oligo Version: 1.68.2 Command: /Library/Frameworks/R.framework/Resources/bin/R CMD build --keep-empty-dirs --no-resave-data oligo StartedAt: 2024-10-16 21:41:19 -0400 (Wed, 16 Oct 2024) EndedAt: 2024-10-16 21:43:18 -0400 (Wed, 16 Oct 2024) EllapsedTime: 118.9 seconds RetCode: 0 Status: OK PackageFile: oligo_1.68.2.tar.gz PackageFileSize: 27.1 MiB