Package: oligo Version: 1.68.2 Command: /Library/Frameworks/R.framework/Resources/bin/R CMD INSTALL oligo StartedAt: 2024-10-16 15:27:23 -0400 (Wed, 16 Oct 2024) EndedAt: 2024-10-16 15:28:43 -0400 (Wed, 16 Oct 2024) EllapsedTime: 79.6 seconds RetCode: 0 Status: OK