Package: oligo Version: 1.68.2 Command: /home/biocbuild/bbs-3.19-bioc/R/bin/R CMD build --keep-empty-dirs --no-resave-data oligo StartedAt: 2024-10-16 19:50:50 -0400 (Wed, 16 Oct 2024) EndedAt: 2024-10-16 19:51:47 -0400 (Wed, 16 Oct 2024) EllapsedTime: 57.1 seconds RetCode: 0 Status: OK PackageFile: oligo_1.68.2.tar.gz PackageFileSize: 27.1 MiB