Package: oligo Version: 1.68.2 Command: F:\biocbuild\bbs-3.19-bioc\R\bin\R.exe CMD INSTALL oligo StartedAt: 2024-06-26 15:56:47 -0400 (Wed, 26 Jun 2024) EndedAt: 2024-06-26 15:57:56 -0400 (Wed, 26 Jun 2024) EllapsedTime: 69.2 seconds RetCode: 0 Status: OK