Package: oligo Version: 1.68.2 Command: E:\biocbuild\bbs-3.19-bioc\R\bin\R.exe CMD INSTALL oligo StartedAt: 2024-10-16 16:20:56 -0400 (Wed, 16 Oct 2024) EndedAt: 2024-10-16 16:22:15 -0400 (Wed, 16 Oct 2024) EllapsedTime: 78.8 seconds RetCode: 0 Status: OK