Package: oligoClasses Version: 1.66.0 Command: /Library/Frameworks/R.framework/Resources/bin/R CMD INSTALL oligoClasses StartedAt: 2024-10-16 16:12:10 -0400 (Wed, 16 Oct 2024) EndedAt: 2024-10-16 16:12:53 -0400 (Wed, 16 Oct 2024) EllapsedTime: 43.6 seconds RetCode: 0 Status: OK