Package: omicRexposome Version: 1.26.0 Command: /Library/Frameworks/R.framework/Resources/bin/R CMD build --keep-empty-dirs --no-resave-data omicRexposome StartedAt: 2024-10-16 21:42:51 -0400 (Wed, 16 Oct 2024) EndedAt: 2024-10-16 22:08:55 -0400 (Wed, 16 Oct 2024) EllapsedTime: 1564.2 seconds RetCode: 0 Status: OK PackageFile: omicRexposome_1.26.0.tar.gz PackageFileSize: 2.62 MiB