Package: omicRexposome Version: 1.26.0 Command: rm -rf omicRexposome.buildbin-libdir && mkdir omicRexposome.buildbin-libdir && E:\biocbuild\bbs-3.19-bioc\R\bin\R.exe CMD INSTALL --build --library=omicRexposome.buildbin-libdir omicRexposome_1.26.0.tar.gz StartedAt: 2024-10-17 08:17:11 -0400 (Thu, 17 Oct 2024) EndedAt: 2024-10-17 08:18:28 -0400 (Thu, 17 Oct 2024) EllapsedTime: 77.5 seconds RetCode: 0 Status: OK PackageFile: omicRexposome_1.26.0.zip PackageFileSize: 2.206 MiB