Package: omicade4 Version: 1.44.0 Command: rm -rf omicade4.buildbin-libdir && mkdir omicade4.buildbin-libdir && /Users/biocbuild/BBS/utils/build-universal.sh omicade4_1.44.0.tar.gz /Library/Frameworks/R.framework/Resources/bin/R omicade4.buildbin-libdir StartedAt: 2024-06-10 00:30:32 -0400 (Mon, 10 Jun 2024) EndedAt: 2024-06-10 00:31:02 -0400 (Mon, 10 Jun 2024) EllapsedTime: 29.4 seconds RetCode: 0 Status: OK PackageFile: omicade4_1.44.0.tgz PackageFileSize: 611.6 KiB