Package: omicade4 Version: 1.44.0 Command: /home/biocbuild/bbs-3.19-bioc/R/bin/R CMD build --keep-empty-dirs --no-resave-data omicade4 StartedAt: 2024-10-16 19:51:43 -0400 (Wed, 16 Oct 2024) EndedAt: 2024-10-16 19:52:31 -0400 (Wed, 16 Oct 2024) EllapsedTime: 48.1 seconds RetCode: 0 Status: OK PackageFile: omicade4_1.44.0.tar.gz PackageFileSize: 544.4 KiB