Package: omicade4 Version: 1.44.0 Command: chmod a+r omicade4 -R && E:\biocbuild\bbs-3.19-bioc\R\bin\R.exe CMD build --keep-empty-dirs --no-resave-data omicade4 StartedAt: 2024-10-16 20:46:21 -0400 (Wed, 16 Oct 2024) EndedAt: 2024-10-16 20:47:05 -0400 (Wed, 16 Oct 2024) EllapsedTime: 43.8 seconds RetCode: 0 Status: OK PackageFile: omicade4_1.44.0.tar.gz PackageFileSize: 545.9 KiB