Package: omicplotR Version: 1.24.0 Command: rm -rf omicplotR.buildbin-libdir && mkdir omicplotR.buildbin-libdir && /Users/biocbuild/BBS/utils/build-universal.sh omicplotR_1.24.0.tar.gz /Library/Frameworks/R.framework/Resources/bin/R omicplotR.buildbin-libdir StartedAt: 2024-10-18 19:49:03 -0400 (Fri, 18 Oct 2024) EndedAt: 2024-10-18 19:49:39 -0400 (Fri, 18 Oct 2024) EllapsedTime: 36.2 seconds RetCode: 0 Status: OK PackageFile: omicplotR_1.24.0.tgz PackageFileSize: 1.184 MiB