Package: omicplotR Version: 1.24.0 Command: /Library/Frameworks/R.framework/Resources/bin/R CMD build --keep-empty-dirs --no-resave-data omicplotR StartedAt: 2024-10-16 21:42:26 -0400 (Wed, 16 Oct 2024) EndedAt: 2024-10-16 21:43:32 -0400 (Wed, 16 Oct 2024) EllapsedTime: 65.7 seconds RetCode: 0 Status: OK PackageFile: omicplotR_1.24.0.tar.gz PackageFileSize: 1.64 MiB