Package: omicplotR Version: 1.24.0 Command: /home/biocbuild/bbs-3.19-bioc/R/bin/R CMD build --keep-empty-dirs --no-resave-data omicplotR StartedAt: 2024-10-16 19:51:47 -0400 (Wed, 16 Oct 2024) EndedAt: 2024-10-16 19:52:27 -0400 (Wed, 16 Oct 2024) EllapsedTime: 40.1 seconds RetCode: 0 Status: OK PackageFile: omicplotR_1.24.0.tar.gz PackageFileSize: 1.64 MiB