Package: omicplotR Version: 1.24.0 Command: /home/biocbuild/bbs-3.19-bioc/R/bin/R CMD check --install=check:omicplotR.install-out.txt --library=/home/biocbuild/bbs-3.19-bioc/R/site-library --timings omicplotR_1.24.0.tar.gz StartedAt: 2024-10-17 03:13:32 -0400 (Thu, 17 Oct 2024) EndedAt: 2024-10-17 03:15:15 -0400 (Thu, 17 Oct 2024) EllapsedTime: 103.2 seconds RetCode: 0 Status: OK CheckDir: omicplotR.Rcheck Warnings: 0