Package: omicplotR Version: 1.24.0 Command: /home/biocbuild/bbs-3.19-bioc/R/bin/R CMD INSTALL omicplotR StartedAt: 2024-10-16 16:34:08 -0400 (Wed, 16 Oct 2024) EndedAt: 2024-10-16 16:34:32 -0400 (Wed, 16 Oct 2024) EllapsedTime: 23.6 seconds RetCode: 0 Status: OK