Package: omicplotR Version: 1.24.0 Command: rm -rf omicplotR.buildbin-libdir && mkdir omicplotR.buildbin-libdir && F:\biocbuild\bbs-3.19-bioc\R\bin\R.exe CMD INSTALL --build --library=omicplotR.buildbin-libdir omicplotR_1.24.0.tar.gz StartedAt: 2024-06-27 08:37:07 -0400 (Thu, 27 Jun 2024) EndedAt: 2024-06-27 08:37:40 -0400 (Thu, 27 Jun 2024) EllapsedTime: 33.8 seconds RetCode: 0 Status: OK PackageFile: omicplotR_1.24.0.zip PackageFileSize: 1.183 MiB