Package: omicplotR Version: 1.24.0 Command: F:\biocbuild\bbs-3.19-bioc\R\bin\R.exe CMD INSTALL omicplotR StartedAt: 2024-06-26 16:37:42 -0400 (Wed, 26 Jun 2024) EndedAt: 2024-06-26 16:38:16 -0400 (Wed, 26 Jun 2024) EllapsedTime: 33.8 seconds RetCode: 0 Status: OK