Package: omicplotR Version: 1.24.0 Command: E:\biocbuild\bbs-3.19-bioc\R\bin\R.exe CMD check --no-multiarch --install=check:omicplotR.install-out.txt --library=E:\biocbuild\bbs-3.19-bioc\R\library --no-vignettes --timings omicplotR_1.24.0.tar.gz StartedAt: 2024-10-17 04:05:13 -0400 (Thu, 17 Oct 2024) EndedAt: 2024-10-17 04:07:11 -0400 (Thu, 17 Oct 2024) EllapsedTime: 117.6 seconds RetCode: 0 Status: OK CheckDir: omicplotR.Rcheck Warnings: 0