Package: oncomix Version: 1.26.0 Command: rm -rf oncomix.buildbin-libdir && mkdir oncomix.buildbin-libdir && /Users/biocbuild/BBS/utils/build-universal.sh oncomix_1.26.0.tar.gz /Library/Frameworks/R.framework/Resources/bin/R oncomix.buildbin-libdir StartedAt: 2024-10-18 19:49:52 -0400 (Fri, 18 Oct 2024) EndedAt: 2024-10-18 19:50:25 -0400 (Fri, 18 Oct 2024) EllapsedTime: 32.9 seconds RetCode: 0 Status: OK PackageFile: oncomix_1.26.0.tgz PackageFileSize: 2.468 MiB