Package: oncomix Version: 1.26.0 Command: rm -rf oncomix.buildbin-libdir && mkdir oncomix.buildbin-libdir && /Users/biocbuild/BBS/utils/build-universal.sh oncomix_1.26.0.tar.gz /Library/Frameworks/R.framework/Resources/bin/R oncomix.buildbin-libdir StartedAt: 2024-06-11 12:24:08 -0400 (Tue, 11 Jun 2024) EndedAt: 2024-06-11 12:24:53 -0400 (Tue, 11 Jun 2024) EllapsedTime: 44.5 seconds RetCode: 0 Status: OK PackageFile: oncomix_1.26.0.tgz PackageFileSize: 2.47 MiB