Package: oncomix Version: 1.26.0 Command: /Library/Frameworks/R.framework/Resources/bin/R CMD build --keep-empty-dirs --no-resave-data oncomix StartedAt: 2024-06-09 17:34:53 -0400 (Sun, 09 Jun 2024) EndedAt: 2024-06-09 17:35:35 -0400 (Sun, 09 Jun 2024) EllapsedTime: 41.5 seconds RetCode: 0 Status: OK PackageFile: oncomix_1.26.0.tar.gz PackageFileSize: 2.432 MiB