Package: oncomix Version: 1.26.0 Command: /Library/Frameworks/R.framework/Resources/bin/R CMD INSTALL oncomix StartedAt: 2024-06-09 15:09:41 -0400 (Sun, 09 Jun 2024) EndedAt: 2024-06-09 15:10:13 -0400 (Sun, 09 Jun 2024) EllapsedTime: 32.7 seconds RetCode: 0 Status: OK