Package: oncoscanR Version: 1.6.0 Command: /Library/Frameworks/R.framework/Resources/bin/R CMD check --install=check:oncoscanR.install-out.txt --library=/Library/Frameworks/R.framework/Resources/library --no-vignettes --timings oncoscanR_1.6.0.tar.gz StartedAt: 2024-10-18 06:31:53 -0400 (Fri, 18 Oct 2024) EndedAt: 2024-10-18 06:38:17 -0400 (Fri, 18 Oct 2024) EllapsedTime: 384.2 seconds RetCode: 0 Status: OK CheckDir: oncoscanR.Rcheck Warnings: 0