Package: oncoscanR Version: 1.6.0 Command: /Library/Frameworks/R.framework/Resources/bin/R CMD check --install=check:oncoscanR.install-out.txt --library=/Library/Frameworks/R.framework/Resources/library --no-vignettes --timings oncoscanR_1.6.0.tar.gz StartedAt: 2024-06-11 00:21:02 -0400 (Tue, 11 Jun 2024) EndedAt: 2024-06-11 00:29:54 -0400 (Tue, 11 Jun 2024) EllapsedTime: 532.4 seconds RetCode: 0 Status: OK CheckDir: oncoscanR.Rcheck Warnings: 0