Package: oncoscanR Version: 1.6.0 Command: /home/biocbuild/R/R-beta-2024-04-15_r86425/bin/R CMD build --keep-empty-dirs --no-resave-data oncoscanR StartedAt: 2024-05-09 02:13:51 -0000 (Thu, 09 May 2024) EndedAt: 2024-05-09 02:17:40 -0000 (Thu, 09 May 2024) EllapsedTime: 229.4 seconds RetCode: 0 Status: OK PackageFile: oncoscanR_1.6.0.tar.gz PackageFileSize: 1014 KiB