Package: oncoscanR Version: 1.6.0 Command: /Library/Frameworks/R.framework/Resources/bin/R CMD check --install=check:oncoscanR.install-out.txt --library=/Library/Frameworks/R.framework/Resources/library --no-vignettes --timings oncoscanR_1.6.0.tar.gz StartedAt: 2024-10-17 10:18:33 -0400 (Thu, 17 Oct 2024) EndedAt: 2024-10-17 10:36:05 -0400 (Thu, 17 Oct 2024) EllapsedTime: 1051.4 seconds RetCode: 0 Status: OK CheckDir: oncoscanR.Rcheck Warnings: 0