Package: oncoscanR Version: 1.6.0 Command: /home/biocbuild/bbs-3.19-bioc/R/bin/R CMD check --install=check:oncoscanR.install-out.txt --library=/home/biocbuild/bbs-3.19-bioc/R/site-library --timings oncoscanR_1.6.0.tar.gz StartedAt: 2024-10-17 03:15:15 -0400 (Thu, 17 Oct 2024) EndedAt: 2024-10-17 03:27:19 -0400 (Thu, 17 Oct 2024) EllapsedTime: 723.9 seconds RetCode: 0 Status: OK CheckDir: oncoscanR.Rcheck Warnings: 0