Package: oncoscanR Version: 1.6.0 Command: E:\biocbuild\bbs-3.19-bioc\R\bin\R.exe CMD check --no-multiarch --install=check:oncoscanR.install-out.txt --library=E:\biocbuild\bbs-3.19-bioc\R\library --no-vignettes --timings oncoscanR_1.6.0.tar.gz StartedAt: 2024-10-17 04:07:37 -0400 (Thu, 17 Oct 2024) EndedAt: 2024-10-17 04:14:30 -0400 (Thu, 17 Oct 2024) EllapsedTime: 412.6 seconds RetCode: 0 Status: OK CheckDir: oncoscanR.Rcheck Warnings: 0