Package: ontoProc Version: 1.26.0 Command: /Library/Frameworks/R.framework/Resources/bin/R CMD build --keep-empty-dirs --no-resave-data ontoProc StartedAt: 2024-06-10 01:58:03 -0400 (Mon, 10 Jun 2024) EndedAt: 2024-06-10 02:02:58 -0400 (Mon, 10 Jun 2024) EllapsedTime: 295.3 seconds RetCode: 0 Status: OK PackageFile: ontoProc_1.26.0.tar.gz PackageFileSize: 12.82 MiB