Package: ontoProc Version: 1.26.0 Command: /Library/Frameworks/R.framework/Resources/bin/R CMD INSTALL ontoProc StartedAt: 2024-06-09 16:32:23 -0400 (Sun, 09 Jun 2024) EndedAt: 2024-06-09 16:33:15 -0400 (Sun, 09 Jun 2024) EllapsedTime: 52.2 seconds RetCode: 0 Status: OK