Package: openCyto Version: 2.16.1 Command: rm -rf openCyto.buildbin-libdir && mkdir openCyto.buildbin-libdir && /Users/biocbuild/BBS/utils/build-universal.sh openCyto_2.16.1.tar.gz /Library/Frameworks/R.framework/Resources/bin/R openCyto.buildbin-libdir StartedAt: 2024-10-18 19:50:21 -0400 (Fri, 18 Oct 2024) EndedAt: 2024-10-18 19:51:02 -0400 (Fri, 18 Oct 2024) EllapsedTime: 40.5 seconds RetCode: 0 Status: OK PackageFile: openCyto_2.16.1.tgz PackageFileSize: 2.7 MiB