Package: openCyto Version: 2.16.0 Command: /home/biocbuild/R/R-beta-2024-04-15_r86425/bin/R CMD build --keep-empty-dirs --no-resave-data openCyto StartedAt: 2024-05-09 02:15:14 -0000 (Thu, 09 May 2024) EndedAt: 2024-05-09 02:17:25 -0000 (Thu, 09 May 2024) EllapsedTime: 131.2 seconds RetCode: 0 Status: OK PackageFile: openCyto_2.16.0.tar.gz PackageFileSize: 1.295 MiB