Package: openCyto Version: 2.16.0 Command: /home/biocbuild/R/R-beta-2024-04-15_r86425/bin/R CMD check --install=check:openCyto.install-out.txt --library=/home/biocbuild/R/R-beta-2024-04-15_r86425/site-library --no-vignettes --timings openCyto_2.16.0.tar.gz StartedAt: 2024-05-09 10:14:19 -0000 (Thu, 09 May 2024) EndedAt: 2024-05-09 10:17:28 -0000 (Thu, 09 May 2024) EllapsedTime: 189.3 seconds RetCode: 0 Status: WARNINGS CheckDir: openCyto.Rcheck Warnings: 4