Package: openCyto Version: 2.16.1 Command: /Library/Frameworks/R.framework/Resources/bin/R CMD check --install=check:openCyto.install-out.txt --library=/Library/Frameworks/R.framework/Resources/library --no-vignettes --timings openCyto_2.16.1.tar.gz StartedAt: 2024-06-09 22:00:10 -0400 (Sun, 09 Jun 2024) EndedAt: 2024-06-09 22:02:59 -0400 (Sun, 09 Jun 2024) EllapsedTime: 168.1 seconds RetCode: 0 Status: WARNINGS CheckDir: openCyto.Rcheck Warnings: 4