Package: openCyto Version: 2.16.1 Command: /home/biocbuild/bbs-3.19-bioc/R/bin/R CMD build --keep-empty-dirs --no-resave-data openCyto StartedAt: 2024-10-16 19:54:36 -0400 (Wed, 16 Oct 2024) EndedAt: 2024-10-16 19:56:24 -0400 (Wed, 16 Oct 2024) EllapsedTime: 108.2 seconds RetCode: 0 Status: OK PackageFile: openCyto_2.16.1.tar.gz PackageFileSize: 1.491 MiB